BEGIN:VCALENDAR
VERSION:2.0
PRODID:-//wp-events-plugin.com//7.2.2.1//EN
BEGIN:VEVENT
UID:115@dorsetcoppicegroup.co.uk
DTSTART:20260117T103000Z
DTEND:20260117T153000Z
DTSTAMP:20251231T111122Z
URL:https://dorsetcoppicegroup.co.uk/events-3/introduction-to-spar-making-
 ever-wondered-how-thatched-roofs-are-held-in-place/
SUMMARY:Introduction to Spar Making - Ever wondered how thatched roofs are 
 held in place?
DESCRIPTION:Intro to Spar Making\n\nEver wondered how thatched roofs are he
 ld in place? Would you like to learn about the intrinsic link between anci
 ent hazel coppices and thatching? Would you like to learn the basics of ma
 king thatching spars? If so\, this course is for you.\n\n•We'll firstly 
 look at selecting useable hazel and cutting them to lengths (known as 'gad
 s').\n\n•We'll explore the the terminology used in spar making.\n\n•Th
 en we'll split some gads\, point them\, and turn them into useable thatchi
 ng spars\n\nAll materials and tools will be supplied\, but do bring your o
 wn spar or hook or billhook if you have one. Also\, please bring a pair of
  work gloves and a knee pad (if you have one).\n\nThe cost of the day is 
 £50 per person. The day will start at 10.30 &amp\; finish around 3.30 in 
 the afternoon.?\n\n
ATTACH;FMTTYPE=image/jpeg:https://dorsetcoppicegroup.co.uk/wp-content/uplo
 ads/2025/11/spars.jpg
CATEGORIES:Courses
LOCATION:Bonsley Wood\, Bonsley Wood\, Norton Lane\, Durweston\, Blandford 
 Forum\, Dorset\, DT11 0QE\, South West\, United Kingdom
X-APPLE-STRUCTURED-LOCATION;VALUE=URI;X-ADDRESS=Bonsley Wood\, Norton Lane\
 , Durweston\, Blandford Forum\, Dorset\, DT11 0QE\, South West\, United Ki
 ngdom;X-APPLE-RADIUS=100;X-TITLE=Bonsley Wood:geo:0,0
END:VEVENT
END:VCALENDAR